BEGIN:VCALENDAR
VERSION:2.0
PRODID:-//eventon.com NONSGML v1.0//EN
CALSCALE:GREGORIAN
METHOD:PUBLISH
BEGIN:VEVENT
UID:69eb955b1ff05
DTSTAMP:20260424T160755
DTSTART:20220220T150000Z
DTEND:20220220T160000Z
TZID:Europe/London
LOCATION:
SUMMARY:The Slow Road to Tehran
DESCRIPTION: You can see the recording of this talk here . In July 2015\,  as the Syrian War raged and the refugee crisis reached its peak\,  Rebecca Lowe set off on her bicycle across the Middle East. Driven by a desire to challenge preconceptions about this long-misunderstood region\,  her 11\, 000km journey took her[..]\nhttps://cycletouringfestival.co.uk/events/the-slow-road-to-tehran/
URL:https://cycletouringfestival.co.uk/events/the-slow-road-to-tehran/
END:VEVENT
END:VCALENDAR